Package: COSNet Version: 1.34.0 Command: rm -rf COSNet.buildbin-libdir && mkdir COSNet.buildbin-libdir && /Users/biocbuild/BBS/utils/build-universal.sh COSNet_1.34.0.tar.gz /Library/Frameworks/R.framework/Resources/bin/R COSNet.buildbin-libdir StartedAt: 2023-10-19 12:24:28 -0400 (Thu, 19 Oct 2023) EndedAt: 2023-10-19 12:24:35 -0400 (Thu, 19 Oct 2023) EllapsedTime: 7.5 seconds RetCode: 0 Status: OK PackageFile: COSNet_1.34.0.tgz PackageFileSize: 559.8 KiB