Package: CONSTANd Version: 1.8.0 Command: /Library/Frameworks/R.framework/Resources/bin/R CMD INSTALL CONSTANd StartedAt: 2023-10-15 15:04:21 -0400 (Sun, 15 Oct 2023) EndedAt: 2023-10-15 15:04:26 -0400 (Sun, 15 Oct 2023) EllapsedTime: 5.0 seconds RetCode: 0 Status: OK