Package: CONSTANd Version: 1.8.0 Command: /Library/Frameworks/R.framework/Resources/bin/R CMD check --install=check:CONSTANd.install-out.txt --library=/Library/Frameworks/R.framework/Resources/library --no-vignettes --timings CONSTANd_1.8.0.tar.gz StartedAt: 2023-10-17 11:44:26 -0400 (Tue, 17 Oct 2023) EndedAt: 2023-10-17 11:45:00 -0400 (Tue, 17 Oct 2023) EllapsedTime: 33.5 seconds RetCode: 0 Status: OK CheckDir: CONSTANd.Rcheck Warnings: 0