git_url: https://git.bioconductor.org/packages/CONSTANd git_branch: RELEASE_3_17 git_last_commit: e241884 git_last_commit_date: 2023-04-25 11:26:02 -0400 (Tue, 25 Apr 2023) Package: CONSTANd Version: 1.8.0 Maintainer: Dirk Valkenborg MaintainerEmail: dirk.valkenborg at uhasselt.be