Package: COHCAP Version: 1.46.0 Command: /Library/Frameworks/R.framework/Resources/bin/R CMD check --install=check:COHCAP.install-out.txt --library=/Library/Frameworks/R.framework/Resources/library --no-vignettes --timings COHCAP_1.46.0.tar.gz StartedAt: 2023-10-17 11:04:28 -0400 (Tue, 17 Oct 2023) EndedAt: 2023-10-17 11:05:48 -0400 (Tue, 17 Oct 2023) EllapsedTime: 80.0 seconds RetCode: 0 Status: OK CheckDir: COHCAP.Rcheck Warnings: 0