Package: COHCAP Version: 1.46.0 Command: /Library/Frameworks/R.framework/Resources/bin/R CMD build --keep-empty-dirs --no-resave-data COHCAP StartedAt: 2023-10-15 23:56:58 -0400 (Sun, 15 Oct 2023) EndedAt: 2023-10-15 23:57:34 -0400 (Sun, 15 Oct 2023) EllapsedTime: 35.2 seconds RetCode: 0 Status: OK PackageFile: COHCAP_1.46.0.tar.gz PackageFileSize: 236.3 KiB