Package: COHCAP Version: 1.46.0 Command: rm -rf COHCAP.buildbin-libdir && mkdir COHCAP.buildbin-libdir && /Users/biocbuild/BBS/utils/build-universal.sh COHCAP_1.46.0.tar.gz /Library/Frameworks/R.framework/Resources/bin/R COHCAP.buildbin-libdir StartedAt: 2023-10-19 12:16:41 -0400 (Thu, 19 Oct 2023) EndedAt: 2023-10-19 12:17:48 -0400 (Thu, 19 Oct 2023) EllapsedTime: 66.4 seconds RetCode: 0 Status: OK PackageFile: COHCAP_1.46.0.tgz PackageFileSize: 425.3 KiB