Package: CNVgears Version: 1.8.0 Command: /Library/Frameworks/R.framework/Resources/bin/R CMD check --install=check:CNVgears.install-out.txt --library=/Library/Frameworks/R.framework/Resources/library --no-vignettes --timings CNVgears_1.8.0.tar.gz StartedAt: 2023-10-17 10:42:21 -0400 (Tue, 17 Oct 2023) EndedAt: 2023-10-17 10:45:05 -0400 (Tue, 17 Oct 2023) EllapsedTime: 163.8 seconds RetCode: 0 Status: OK CheckDir: CNVgears.Rcheck Warnings: 0