Package: CINdex Version: 1.28.0 Command: /Library/Frameworks/R.framework/Resources/bin/R CMD INSTALL CINdex StartedAt: 2023-10-15 15:34:56 -0400 (Sun, 15 Oct 2023) EndedAt: 2023-10-15 15:35:44 -0400 (Sun, 15 Oct 2023) EllapsedTime: 48.4 seconds RetCode: 0 Status: OK