git_url: https://git.bioconductor.org/packages/CGHregions git_branch: RELEASE_3_17 git_last_commit: da650b4 git_last_commit_date: 2023-04-25 09:46:56 -0400 (Tue, 25 Apr 2023) Package: CGHregions Version: 1.58.0 Maintainer: Sjoerd Vosse MaintainerEmail: info at vossewebdevelopment.nl