| Back to Mac ARM64 build report for BioC 3.17 | 
 | 
This page was generated on 2023-10-20 09:37:49 -0400 (Fri, 20 Oct 2023).
| Hostname | OS | Arch (*) | R version | Installed pkgs | 
|---|---|---|---|---|
| kjohnson2 | macOS 12.6.1 Monterey | arm64 | 4.3.1 (2023-06-16) -- "Beagle Scouts" | 4347 | 
| Click on any hostname to see more info about the system (e.g. compilers) (*) as reported by 'uname -p', except on Windows and Mac OS X | ||||
| To the developers/maintainers of the CGHbase package: - Use the following Renviron settings to reproduce errors and warnings. - If 'R CMD check' started to fail recently on the Linux builder(s) over a missing dependency, add the missing dependency to 'Suggests:' in your DESCRIPTION file. See Renviron.bioc for more information. | 
| Package 311/2230 | Hostname | OS / Arch | INSTALL | BUILD | CHECK | BUILD BIN | ||||||||
| CGHbase 1.60.0  (landing page) Mark van de Wiel 
 | kjohnson2 | macOS 12.6.1 Monterey / arm64 | OK | OK | OK | OK |  | |||||||
| QUICK STATS | OS / Arch | INSTALL | BUILD | CHECK | BUILD BIN | |||||||||||||||||
| kjohnson2 | macOS 12.6.1 Monterey / arm64 | 
 | 
 | 
 | 
 | |||||||||||||||||
| Package 1/5 | Hostname | OS / Arch | INSTALL | BUILD | CHECK | BUILD BIN | ||||||||||||||||
| CGHcall 2.62.0  (landing page) Mark van de Wiel 
 | kjohnson2 | macOS 12.6.1 Monterey / arm64 | OK | OK | WARNINGS | OK |  | |||||||||||||||
| Package 2/5 | Hostname | OS / Arch | INSTALL | BUILD | CHECK | BUILD BIN | ||||||||||||||||
| CGHnormaliter 1.54.0  (landing page) Bart P.P. van Houte 
 | kjohnson2 | macOS 12.6.1 Monterey / arm64 | OK | OK | OK | OK |  | |||||||||||||||
| Package 3/5 | Hostname | OS / Arch | INSTALL | BUILD | CHECK | BUILD BIN | ||||||||||||||||
| CGHregions 1.58.0  (landing page) Sjoerd Vosse 
 | kjohnson2 | macOS 12.6.1 Monterey / arm64 | OK | OK | OK | OK |  | |||||||||||||||
| Package 4/5 | Hostname | OS / Arch | INSTALL | BUILD | CHECK | BUILD BIN | ||||||||||||||||
| GeneBreak 1.30.0  (landing page) Evert van den Broek 
 | kjohnson2 | macOS 12.6.1 Monterey / arm64 | OK | OK | OK | OK |  | |||||||||||||||
| Package 5/5 | Hostname | OS / Arch | INSTALL | BUILD | CHECK | BUILD BIN | ||||||||||||||||
| QDNAseq 1.36.0  (landing page) Daoud Sie 
 | kjohnson2 | macOS 12.6.1 Monterey / arm64 | OK | OK | OK | OK |  | |||||||||||||||