Package: CBNplot Version: 1.0.0 Command: /Library/Frameworks/R.framework/Resources/bin/R CMD build --keep-empty-dirs --no-resave-data CBNplot StartedAt: 2023-10-15 22:45:16 -0400 (Sun, 15 Oct 2023) EndedAt: 2023-10-15 22:48:30 -0400 (Sun, 15 Oct 2023) EllapsedTime: 194.1 seconds RetCode: 0 Status: OK PackageFile: CBNplot_1.0.0.tar.gz PackageFileSize: 1.377 MiB