git_url: https://git.bioconductor.org/packages/BufferedMatrixMethods git_branch: RELEASE_3_17 git_last_commit: 33d58e7 git_last_commit_date: 2023-04-25 09:44:51 -0400 (Tue, 25 Apr 2023) Package: BufferedMatrixMethods Version: 1.64.0 Maintainer: Ben Bolstad MaintainerEmail: bmb at bmbolstad.com