Package: BrowserViz Version: 2.22.0 Command: /Library/Frameworks/R.framework/Resources/bin/R CMD INSTALL BrowserViz StartedAt: 2023-10-15 15:39:43 -0400 (Sun, 15 Oct 2023) EndedAt: 2023-10-15 15:39:51 -0400 (Sun, 15 Oct 2023) EllapsedTime: 8.1 seconds RetCode: 0 Status: OK