Package: Biostrings Version: 2.68.1 Command: /Library/Frameworks/R.framework/Resources/bin/R CMD build --keep-empty-dirs --no-resave-data Biostrings StartedAt: 2023-10-15 22:14:02 -0400 (Sun, 15 Oct 2023) EndedAt: 2023-10-15 22:16:13 -0400 (Sun, 15 Oct 2023) EllapsedTime: 131.4 seconds RetCode: 0 Status: OK PackageFile: Biostrings_2.68.1.tar.gz PackageFileSize: 12.21 MiB