Package: BiocStyle Version: 2.28.1 Command: /Library/Frameworks/R.framework/Resources/bin/R CMD build --keep-empty-dirs --no-resave-data BiocStyle StartedAt: 2023-10-15 22:04:40 -0400 (Sun, 15 Oct 2023) EndedAt: 2023-10-15 22:04:59 -0400 (Sun, 15 Oct 2023) EllapsedTime: 19.3 seconds RetCode: 0 Status: OK PackageFile: BiocStyle_2.28.1.tar.gz PackageFileSize: 773.7 KiB