Package: BiocGenerics Version: 0.46.0 Command: /Library/Frameworks/R.framework/Resources/bin/R CMD INSTALL BiocGenerics StartedAt: 2023-10-15 15:03:01 -0400 (Sun, 15 Oct 2023) EndedAt: 2023-10-15 15:03:12 -0400 (Sun, 15 Oct 2023) EllapsedTime: 11.1 seconds RetCode: 0 Status: OK