Package: BiocGenerics Version: 0.46.0 Command: /Library/Frameworks/R.framework/Resources/bin/R CMD build --keep-empty-dirs --no-resave-data BiocGenerics StartedAt: 2023-10-15 21:52:18 -0400 (Sun, 15 Oct 2023) EndedAt: 2023-10-15 21:52:19 -0400 (Sun, 15 Oct 2023) EllapsedTime: 1.0 seconds RetCode: 0 Status: OK PackageFile: BiocGenerics_0.46.0.tar.gz PackageFileSize: 47.13 KiB