Package: BioNet Version: 1.60.0 Command: /Library/Frameworks/R.framework/Resources/bin/R CMD check --install=check:BioNet.install-out.txt --library=/Library/Frameworks/R.framework/Resources/library --no-vignettes --timings BioNet_1.60.0.tar.gz StartedAt: 2023-10-17 05:52:02 -0400 (Tue, 17 Oct 2023) EndedAt: 2023-10-17 05:55:34 -0400 (Tue, 17 Oct 2023) EllapsedTime: 211.7 seconds RetCode: 0 Status: OK CheckDir: BioNet.Rcheck Warnings: 0