Package: BioMVCClass Version: 1.68.0 Command: /Library/Frameworks/R.framework/Resources/bin/R CMD check --install=check:BioMVCClass.install-out.txt --library=/Library/Frameworks/R.framework/Resources/library --no-vignettes --timings BioMVCClass_1.68.0.tar.gz StartedAt: 2023-10-17 05:49:56 -0400 (Tue, 17 Oct 2023) EndedAt: 2023-10-17 05:50:56 -0400 (Tue, 17 Oct 2023) EllapsedTime: 59.4 seconds RetCode: 0 Status: OK CheckDir: BioMVCClass.Rcheck Warnings: 0