git_url: https://git.bioconductor.org/packages/BUMHMM git_branch: RELEASE_3_17 git_last_commit: 2a0edf1 git_last_commit_date: 2023-04-25 10:51:26 -0400 (Tue, 25 Apr 2023) Package: BUMHMM Version: 1.24.0 Maintainer: Alina Selega MaintainerEmail: alina.selega at gmail.com