Package: BPRMeth Version: 1.26.1 Command: rm -rf BPRMeth.buildbin-libdir && mkdir BPRMeth.buildbin-libdir && /Users/biocbuild/BBS/utils/build-universal.sh BPRMeth_1.26.1.tar.gz /Library/Frameworks/R.framework/Resources/bin/R BPRMeth.buildbin-libdir StartedAt: 2023-10-19 11:43:00 -0400 (Thu, 19 Oct 2023) EndedAt: 2023-10-19 11:44:19 -0400 (Thu, 19 Oct 2023) EllapsedTime: 79.4 seconds RetCode: 0 Status: OK PackageFile: BPRMeth_1.26.1.tgz PackageFileSize: 3.633 MiB