git_url: https://git.bioconductor.org/packages/BHC git_branch: RELEASE_3_17 git_last_commit: 485500a git_last_commit_date: 2023-04-25 09:51:14 -0400 (Tue, 25 Apr 2023) Package: BHC Version: 1.52.0 Maintainer: Rich Savage MaintainerEmail: r.s.savage at warwick.ac.uk