Package: AnnotationForge Version: 1.42.2 Command: /Library/Frameworks/R.framework/Resources/bin/R CMD INSTALL AnnotationForge StartedAt: 2023-10-15 16:03:20 -0400 (Sun, 15 Oct 2023) EndedAt: 2023-10-15 16:03:53 -0400 (Sun, 15 Oct 2023) EllapsedTime: 33.4 seconds RetCode: 0 Status: OK