Package: AnnotationForge Version: 1.42.2 Command: /Library/Frameworks/R.framework/Resources/bin/R CMD check --install=check:AnnotationForge.install-out.txt --library=/Library/Frameworks/R.framework/Resources/library --no-vignettes --timings AnnotationForge_1.42.2.tar.gz StartedAt: 2023-10-17 02:24:57 -0400 (Tue, 17 Oct 2023) EndedAt: 2023-10-17 02:28:33 -0400 (Tue, 17 Oct 2023) EllapsedTime: 216.2 seconds RetCode: 0 Status: OK CheckDir: AnnotationForge.Rcheck Warnings: 0