Package: AnnotationDbi Version: 1.62.2 Command: /Library/Frameworks/R.framework/Resources/bin/R CMD build --keep-empty-dirs --no-resave-data AnnotationDbi StartedAt: 2023-10-15 20:40:59 -0400 (Sun, 15 Oct 2023) EndedAt: 2023-10-15 20:42:31 -0400 (Sun, 15 Oct 2023) EllapsedTime: 92.0 seconds RetCode: 0 Status: OK PackageFile: AnnotationDbi_1.62.2.tar.gz PackageFileSize: 4.17 MiB