Package: ADAMgui Version: 1.16.0 Command: /Library/Frameworks/R.framework/Resources/bin/R CMD check --install=check:ADAMgui.install-out.txt --library=/Library/Frameworks/R.framework/Resources/library --no-vignettes --timings ADAMgui_1.16.0.tar.gz StartedAt: 2023-10-17 01:13:03 -0400 (Tue, 17 Oct 2023) EndedAt: 2023-10-17 01:18:23 -0400 (Tue, 17 Oct 2023) EllapsedTime: 319.3 seconds RetCode: 0 Status: OK CheckDir: ADAMgui.Rcheck Warnings: 0