git_url: https://git.bioconductor.org/packages/ABSSeq git_branch: RELEASE_3_17 git_last_commit: 5e7de8c git_last_commit_date: 2023-04-25 10:31:15 -0400 (Tue, 25 Apr 2023) Package: ABSSeq Version: 1.54.0 Maintainer: Wentao Yang MaintainerEmail: wyang at zoologie.uni-kiel.de