| Back to Long Tests report for BioC 3.17 | 
This page was generated on 2023-10-14 21:30:02 -0400 (Sat, 14 Oct 2023).
| Hostname | OS | Arch (*) | R version | Installed pkgs | 
|---|---|---|---|---|
| nebbiolo1 | Linux (Ubuntu 22.04.2 LTS) | x86_64 | 4.3.1 (2023-06-16) -- "Beagle Scouts" | 4626 | 
| palomino3 | Windows Server 2022 Datacenter | x64 | 4.3.1 (2023-06-16 ucrt) -- "Beagle Scouts" | 4379 | 
| merida1 | macOS 12.6.4 Monterey | x86_64 | 4.3.1 (2023-06-16) -- "Beagle Scouts" | 4395 | 
| Click on any hostname to see more info about the system (e.g. compilers) (*) as reported by 'uname -p', except on Windows and Mac OS X | ||||
| Package 6/31 | Hostname | OS / Arch | CHECK | |||||||
| biodbChebi 1.6.0  (landing page) Pierrick Roger 
  | nebbiolo1 | Linux (Ubuntu 22.04.2 LTS) / x86_64 | OK | |||||||
| palomino3 | Windows Server 2022 Datacenter / x64 | OK | ||||||||
| merida1 | macOS 12.6.4 Monterey / x86_64 | OK | ||||||||
| 
To the developers/maintainers of the biodbChebi package: - Use the following Renviron settings to reproduce errors and warnings. - If 'R CMD check' started to fail recently on the Linux builder(s) over a missing dependency, add the missing dependency to 'Suggests:' in your DESCRIPTION file. See Renviron.bioc for more information.  | 
| Package: biodbChebi | 
| Version: 1.6.0 | 
| Command: /home/biocbuild/bbs-3.17-bioc/R/bin/R CMD build --keep-empty-dirs --no-resave-data --no-build-vignettes --no-manual biodbChebi | 
| StartedAt: 2023-10-14 11:00:11 -0400 (Sat, 14 Oct 2023) | 
| EndedAt: 2023-10-14 11:00:12 -0400 (Sat, 14 Oct 2023) | 
| EllapsedTime: 0.9 seconds | 
| RetCode: 0 | 
| Status: OK | 
| PackageFile: biodbChebi_1.6.0.tar.gz | 
| PackageFileSize: 22.2 KiB | 
############################################################################## ############################################################################## ### ### Running command: ### ### /home/biocbuild/bbs-3.17-bioc/R/bin/R CMD build --keep-empty-dirs --no-resave-data --no-build-vignettes --no-manual biodbChebi ### ############################################################################## ############################################################################## * checking for file ‘biodbChebi/DESCRIPTION’ ... OK * preparing ‘biodbChebi’: * checking DESCRIPTION meta-information ... OK * checking for LF line-endings in source and make files and shell scripts * checking for empty or unneeded directories * building ‘biodbChebi_1.6.0.tar.gz’