Package: APAlyzer Version: 1.14.0 Command: /Library/Frameworks/R.framework/Resources/bin/R CMD build --keep-empty-dirs --no-resave-data --no-build-vignettes --no-manual APAlyzer StartedAt: 2023-10-14 11:00:53 -0400 (Sat, 14 Oct 2023) EndedAt: 2023-10-14 11:01:27 -0400 (Sat, 14 Oct 2023) EllapsedTime: 34.5 seconds RetCode: 0 Status: OK PackageFile: APAlyzer_1.14.0.tar.gz PackageFileSize: 3.155 MiB