Package: zlibbioc Version: 1.46.0 Command: F:\biocbuild\bbs-3.17-bioc\R\bin\R.exe CMD INSTALL zlibbioc StartedAt: 2023-10-15 15:46:57 -0400 (Sun, 15 Oct 2023) EndedAt: 2023-10-15 15:47:21 -0400 (Sun, 15 Oct 2023) EllapsedTime: 23.9 seconds RetCode: 0 Status: OK