Package: zlibbioc Version: 1.46.0 Command: chmod a+r zlibbioc -R && F:\biocbuild\bbs-3.17-bioc\R\bin\R.exe CMD build --keep-empty-dirs --no-resave-data zlibbioc StartedAt: 2023-10-15 23:09:00 -0400 (Sun, 15 Oct 2023) EndedAt: 2023-10-15 23:09:03 -0400 (Sun, 15 Oct 2023) EllapsedTime: 3.0 seconds RetCode: 0 Status: OK PackageFile: zlibbioc_1.46.0.tar.gz PackageFileSize: 159.5 KiB