Package: zlibbioc Version: 1.46.0 Command: /home/biocbuild/bbs-3.17-bioc/R/bin/R CMD check --install=check:zlibbioc.install-out.txt --library=/home/biocbuild/bbs-3.17-bioc/R/site-library --timings zlibbioc_1.46.0.tar.gz StartedAt: 2023-10-16 02:11:47 -0400 (Mon, 16 Oct 2023) EndedAt: 2023-10-16 02:12:00 -0400 (Mon, 16 Oct 2023) EllapsedTime: 12.3 seconds RetCode: 0 Status: WARNINGS CheckDir: zlibbioc.Rcheck Warnings: 1