Package: zlibbioc Version: 1.46.0 Command: rm -rf zlibbioc.buildbin-libdir && mkdir zlibbioc.buildbin-libdir && /Users/biocbuild/BBS/utils/build-universal.sh zlibbioc_1.46.0.tar.gz /Library/Frameworks/R.framework/Resources/bin/R zlibbioc.buildbin-libdir StartedAt: 2023-10-16 10:25:58 -0400 (Mon, 16 Oct 2023) EndedAt: 2023-10-16 10:26:08 -0400 (Mon, 16 Oct 2023) EllapsedTime: 9.9 seconds RetCode: 0 Status: OK PackageFile: zlibbioc_1.46.0.tgz PackageFileSize: 13.56 KiB