Package: zellkonverter Version: 1.10.1 Command: chmod a+r zellkonverter -R && F:\biocbuild\bbs-3.17-bioc\R\bin\R.exe CMD build --keep-empty-dirs --no-resave-data zellkonverter StartedAt: 2023-10-15 23:08:19 -0400 (Sun, 15 Oct 2023) EndedAt: 2023-10-15 23:10:45 -0400 (Sun, 15 Oct 2023) EllapsedTime: 146.6 seconds RetCode: 0 Status: OK PackageFile: zellkonverter_1.10.1.tar.gz PackageFileSize: 1.126 MiB