Package: zFPKM Version: 1.22.0 Command: rm -rf zFPKM.buildbin-libdir && mkdir zFPKM.buildbin-libdir && F:\biocbuild\bbs-3.17-bioc\R\bin\R.exe CMD INSTALL --build --library=zFPKM.buildbin-libdir zFPKM_1.22.0.tar.gz StartedAt: 2023-10-16 09:43:37 -0400 (Mon, 16 Oct 2023) EndedAt: 2023-10-16 09:44:02 -0400 (Mon, 16 Oct 2023) EllapsedTime: 25.1 seconds RetCode: 0 Status: OK PackageFile: zFPKM_1.22.0.zip PackageFileSize: 77.21 KiB