Package: zFPKM Version: 1.22.0 Command: /home/biocbuild/bbs-3.17-bioc/R/bin/R CMD build --keep-empty-dirs --no-resave-data zFPKM StartedAt: 2023-10-15 18:58:09 -0400 (Sun, 15 Oct 2023) EndedAt: 2023-10-15 18:58:52 -0400 (Sun, 15 Oct 2023) EllapsedTime: 43.6 seconds RetCode: 0 Status: OK PackageFile: zFPKM_1.22.0.tar.gz PackageFileSize: 137 KiB