Package: zFPKM Version: 1.22.0 Command: /Library/Frameworks/R.framework/Resources/bin/R CMD build --keep-empty-dirs --no-resave-data zFPKM StartedAt: 2023-10-15 22:10:47 -0400 (Sun, 15 Oct 2023) EndedAt: 2023-10-15 22:12:27 -0400 (Sun, 15 Oct 2023) EllapsedTime: 100.3 seconds RetCode: 0 Status: OK PackageFile: zFPKM_1.22.0.tar.gz PackageFileSize: 143 KiB