Package: yarn Version: 1.26.0 Command: chmod a+r yarn -R && F:\biocbuild\bbs-3.17-bioc\R\bin\R.exe CMD build --keep-empty-dirs --no-resave-data yarn StartedAt: 2023-10-15 23:08:04 -0400 (Sun, 15 Oct 2023) EndedAt: 2023-10-15 23:09:32 -0400 (Sun, 15 Oct 2023) EllapsedTime: 88.1 seconds RetCode: 0 Status: OK PackageFile: yarn_1.26.0.tar.gz PackageFileSize: 2.974 MiB