Package: yarn Version: 1.26.0 Command: /home/biocbuild/bbs-3.17-bioc/R/bin/R CMD build --keep-empty-dirs --no-resave-data yarn StartedAt: 2023-10-15 18:57:47 -0400 (Sun, 15 Oct 2023) EndedAt: 2023-10-15 18:58:58 -0400 (Sun, 15 Oct 2023) EllapsedTime: 70.9 seconds RetCode: 0 Status: OK PackageFile: yarn_1.26.0.tar.gz PackageFileSize: 2.974 MiB