Package: yamss Version: 1.26.0 Command: /home/biocbuild/bbs-3.17-bioc/R/bin/R CMD build --keep-empty-dirs --no-resave-data yamss StartedAt: 2023-10-15 18:57:44 -0400 (Sun, 15 Oct 2023) EndedAt: 2023-10-15 18:59:58 -0400 (Sun, 15 Oct 2023) EllapsedTime: 133.3 seconds RetCode: 0 Status: OK PackageFile: yamss_1.26.0.tar.gz PackageFileSize: 410.9 KiB