Package: yamss Version: 1.26.0 Command: /Library/Frameworks/R.framework/Resources/bin/R CMD check --install=check:yamss.install-out.txt --library=/Library/Frameworks/R.framework/Resources/library --no-vignettes --timings yamss_1.26.0.tar.gz StartedAt: 2023-10-16 08:37:34 -0400 (Mon, 16 Oct 2023) EndedAt: 2023-10-16 08:45:01 -0400 (Mon, 16 Oct 2023) EllapsedTime: 446.8 seconds RetCode: 0 Status: OK CheckDir: yamss.Rcheck Warnings: 0