Package: xmapbridge Version: 1.58.0 Command: F:\biocbuild\bbs-3.17-bioc\R\bin\R.exe CMD check --no-multiarch --install=check:xmapbridge.install-out.txt --library=F:\biocbuild\bbs-3.17-bioc\R\library --no-vignettes --timings xmapbridge_1.58.0.tar.gz StartedAt: 2023-10-16 08:07:20 -0400 (Mon, 16 Oct 2023) EndedAt: 2023-10-16 08:07:54 -0400 (Mon, 16 Oct 2023) EllapsedTime: 34.0 seconds RetCode: 0 Status: OK CheckDir: xmapbridge.Rcheck Warnings: 0