Package: xmapbridge Version: 1.58.0 Command: chmod a+r xmapbridge -R && F:\biocbuild\bbs-3.17-bioc\R\bin\R.exe CMD build --keep-empty-dirs --no-resave-data xmapbridge StartedAt: 2023-10-15 23:07:28 -0400 (Sun, 15 Oct 2023) EndedAt: 2023-10-15 23:08:24 -0400 (Sun, 15 Oct 2023) EllapsedTime: 56.2 seconds RetCode: 0 Status: OK PackageFile: xmapbridge_1.58.0.tar.gz PackageFileSize: 2.903 MiB