Package: xmapbridge Version: 1.58.0 Command: /home/biocbuild/bbs-3.17-bioc/R/bin/R CMD check --install=check:xmapbridge.install-out.txt --library=/home/biocbuild/bbs-3.17-bioc/R/site-library --timings xmapbridge_1.58.0.tar.gz StartedAt: 2023-10-16 02:09:20 -0400 (Mon, 16 Oct 2023) EndedAt: 2023-10-16 02:10:05 -0400 (Mon, 16 Oct 2023) EllapsedTime: 45.4 seconds RetCode: 0 Status: OK CheckDir: xmapbridge.Rcheck Warnings: 0