Package: xmapbridge Version: 1.58.0 Command: /Library/Frameworks/R.framework/Resources/bin/R CMD INSTALL xmapbridge StartedAt: 2023-10-15 15:06:47 -0400 (Sun, 15 Oct 2023) EndedAt: 2023-10-15 15:07:11 -0400 (Sun, 15 Oct 2023) EllapsedTime: 24.6 seconds RetCode: 0 Status: OK