Package: xmapbridge Version: 1.58.0 Command: /Library/Frameworks/R.framework/Resources/bin/R CMD check --install=check:xmapbridge.install-out.txt --library=/Library/Frameworks/R.framework/Resources/library --no-vignettes --timings xmapbridge_1.58.0.tar.gz StartedAt: 2023-10-16 08:36:44 -0400 (Mon, 16 Oct 2023) EndedAt: 2023-10-16 08:37:42 -0400 (Mon, 16 Oct 2023) EllapsedTime: 58.1 seconds RetCode: 0 Status: OK CheckDir: xmapbridge.Rcheck Warnings: 0