Package: xmapbridge Version: 1.58.0 Command: /Library/Frameworks/R.framework/Resources/bin/R CMD build --keep-empty-dirs --no-resave-data xmapbridge StartedAt: 2023-10-15 22:09:33 -0400 (Sun, 15 Oct 2023) EndedAt: 2023-10-15 22:10:52 -0400 (Sun, 15 Oct 2023) EllapsedTime: 79.2 seconds RetCode: 0 Status: OK PackageFile: xmapbridge_1.58.0.tar.gz PackageFileSize: 3.02 MiB