Package: xmapbridge Version: 1.58.0 Command: rm -rf xmapbridge.buildbin-libdir && mkdir xmapbridge.buildbin-libdir && /Users/biocbuild/BBS/utils/build-universal.sh xmapbridge_1.58.0.tar.gz /Library/Frameworks/R.framework/Resources/bin/R xmapbridge.buildbin-libdir StartedAt: 2023-10-16 10:25:25 -0400 (Mon, 16 Oct 2023) EndedAt: 2023-10-16 10:25:36 -0400 (Mon, 16 Oct 2023) EllapsedTime: 10.7 seconds RetCode: 0 Status: OK PackageFile: xmapbridge_1.58.0.tgz PackageFileSize: 1.761 MiB