Package: wppi Version: 1.8.0 Command: chmod a+r wppi -R && F:\biocbuild\bbs-3.17-bioc\R\bin\R.exe CMD build --keep-empty-dirs --no-resave-data wppi StartedAt: 2023-10-15 23:06:38 -0400 (Sun, 15 Oct 2023) EndedAt: 2023-10-15 23:07:37 -0400 (Sun, 15 Oct 2023) EllapsedTime: 58.4 seconds RetCode: 0 Status: OK PackageFile: wppi_1.8.0.tar.gz PackageFileSize: 646.6 KiB